BEGIN:VCALENDAR
VERSION:2.0
PRODID:-//ConVerve GmbH//B2BMatch//EN
METHOD:PUBLISH
BEGIN:VEVENT
DTSTART:20250326T140000Z
DTEND:20250329T030000Z
SUMMARY:2025 Link West - San Diego
LOCATION:Paradise Point Resort & Spa
DESCRIPTION:
UID:0000001
DTSTAMP:20180215T145139Z
END:VEVENT
END:VCALENDAR
